BEGIN:VCALENDAR
VERSION:2.0
PRODID:-//Zintervu - ECPv6.15.20//NONSGML v1.0//EN
CALSCALE:GREGORIAN
METHOD:PUBLISH
X-ORIGINAL-URL:https://zintervu.com
X-WR-CALDESC:Events for Zintervu
REFRESH-INTERVAL;VALUE=DURATION:PT1H
X-Robots-Tag:noindex
X-PUBLISHED-TTL:PT1H
BEGIN:VTIMEZONE
TZID:America/New_York
BEGIN:DAYLIGHT
TZOFFSETFROM:-0500
TZOFFSETTO:-0400
TZNAME:EDT
DTSTART:20250309T070000
END:DAYLIGHT
BEGIN:STANDARD
TZOFFSETFROM:-0400
TZOFFSETTO:-0500
TZNAME:EST
DTSTART:20251102T060000
END:STANDARD
BEGIN:DAYLIGHT
TZOFFSETFROM:-0500
TZOFFSETTO:-0400
TZNAME:EDT
DTSTART:20260308T070000
END:DAYLIGHT
BEGIN:STANDARD
TZOFFSETFROM:-0400
TZOFFSETTO:-0500
TZNAME:EST
DTSTART:20261101T060000
END:STANDARD
BEGIN:DAYLIGHT
TZOFFSETFROM:-0500
TZOFFSETTO:-0400
TZNAME:EDT
DTSTART:20270314T070000
END:DAYLIGHT
BEGIN:STANDARD
TZOFFSETFROM:-0400
TZOFFSETTO:-0500
TZNAME:EST
DTSTART:20271107T060000
END:STANDARD
END:VTIMEZONE
BEGIN:VEVENT
DTSTART;TZID=America/New_York:20260606T090000
DTEND;TZID=America/New_York:20260606T123000
DTSTAMP:20260424T062616
CREATED:20260421T212239Z
LAST-MODIFIED:20260421T212239Z
UID:10001016-1780736400-1780749000@zintervu.com
SUMMARY:Georgia Institute of Technology Scheller College of Business Evening MBA
DESCRIPTION:Crack the Case Level 1Schedule: 9:00am-12:30pm ET \nCases are not just for consulting interviews anymore. Marketing\, banking\, high tech\, healthcare and a variety of other industries are now using cases to evaluate candidates. Our expert  presenters will give you a complete overview of how to succeed in your cases during this dynamic and interactive workshop. Get ready to think beyond simple frameworks and learn how to navigate the most challenging interviews of your career! \n\nLocation: Online – Zoom Platform \n\nPlease use a PC\, laptop or tablet with the camera and microphone enabled.\nThis is an interactive session where participation is required. We will use the Zoom room break-out feature for in-class partner exercises.\n\n\nSpeaker BioDavid Ohrvall\nDavid is the CEO of Zintervu and the author of Crack the Case and Interview Logic. A dynamic and engaging speaker\, David has trained tens of thousands of students at top business schools worldwide. David’s insider knowledge (as an ex-Bain & Company manager) and deep experience as an interview coach combine to bring you an outstanding learning experience that will enhance your problem-solving skills\, logical communication\, and personal presentation. Don’t miss this opportunity to take your case interviews to the next level! \nFull Bio
URL:https://zintervu.com/event/georgia-tech-june-6-2026-ctc1/
LOCATION:Virtual\, Your Zoom link will arrive in a separate email.
CATEGORIES:GA Tech,Trainer: David Ohrvall
END:VEVENT
END:VCALENDAR